BEGIN:VCALENDAR
VERSION:2.0
PRODID:-//Board of Nursing - ECPv5.0.3.1//NONSGML v1.0//EN
CALSCALE:GREGORIAN
METHOD:PUBLISH
X-WR-CALNAME:Board of Nursing
X-ORIGINAL-URL:https://ibn.idaho.gov
X-WR-CALDESC:Events for Board of Nursing
BEGIN:VTIMEZONE
TZID:America/Boise
BEGIN:DAYLIGHT
TZOFFSETFROM:-0700
TZOFFSETTO:-0600
TZNAME:MDT
DTSTART:20200308T090000
END:DAYLIGHT
BEGIN:STANDARD
TZOFFSETFROM:-0600
TZOFFSETTO:-0700
TZNAME:MST
DTSTART:20201101T080000
END:STANDARD
END:VTIMEZONE
BEGIN:VEVENT
DTSTART;VALUE=DATE:20201126
DTEND;VALUE=DATE:20201127
DTSTAMP:20210924T040406
CREATED:20200421T142958Z
LAST-MODIFIED:20200421T142958Z
UID:2180-1606348800-1606435199@ibn.idaho.gov
SUMMARY:Thanksgiving Day
DESCRIPTION:
URL:https://ibn.idaho.gov/event/thanksgiving-day/
END:VEVENT
END:VCALENDAR