BEGIN:VCALENDAR
VERSION:2.0
PRODID:-//Board of Nursing - ECPv5.0.3.1//NONSGML v1.0//EN
CALSCALE:GREGORIAN
METHOD:PUBLISH
X-WR-CALNAME:Board of Nursing
X-ORIGINAL-URL:https://ibn.idaho.gov
X-WR-CALDESC:Events for Board of Nursing
BEGIN:VTIMEZONE
TZID:America/Boise
BEGIN:DAYLIGHT
TZOFFSETFROM:-0700
TZOFFSETTO:-0600
TZNAME:MDT
DTSTART:20200308T090000
END:DAYLIGHT
BEGIN:STANDARD
TZOFFSETFROM:-0600
TZOFFSETTO:-0700
TZNAME:MST
DTSTART:20201101T080000
END:STANDARD
END:VTIMEZONE
BEGIN:VEVENT
DTSTART;VALUE=DATE:20200525
DTEND;VALUE=DATE:20200526
DTSTAMP:20210923T215106
CREATED:20200421T142445Z
LAST-MODIFIED:20200421T142445Z
UID:2170-1590364800-1590451199@ibn.idaho.gov
SUMMARY:Memorial Day
DESCRIPTION:
URL:https://ibn.idaho.gov/event/memorial-day/
END:VEVENT
END:VCALENDAR