BEGIN:VCALENDAR
VERSION:2.0
PRODID:-//Board of Nursing - ECPv5.0.3.1//NONSGML v1.0//EN
CALSCALE:GREGORIAN
METHOD:PUBLISH
X-WR-CALNAME:Board of Nursing
X-ORIGINAL-URL:https://ibn.idaho.gov
X-WR-CALDESC:Events for Board of Nursing
BEGIN:VTIMEZONE
TZID:America/Boise
BEGIN:DAYLIGHT
TZOFFSETFROM:-0700
TZOFFSETTO:-0600
TZNAME:MDT
DTSTART:20210314T090000
END:DAYLIGHT
BEGIN:STANDARD
TZOFFSETFROM:-0600
TZOFFSETTO:-0700
TZNAME:MST
DTSTART:20211107T080000
END:STANDARD
END:VTIMEZONE
BEGIN:VEVENT
DTSTART;TZID=America/Boise:20210429T083000
DTEND;TZID=America/Boise:20210429T170000
DTSTAMP:20210426T105132
CREATED:20201009T205138Z
LAST-MODIFIED:20210419T211123Z
UID:2655-1619685000-1619715600@ibn.idaho.gov
SUMMARY:Board Meeting
DESCRIPTION:Please check this page 48 hours before the Board meeting date; location changes will be noted in the Agenda and calendar. The meeting begins at 8:30 am. \nNew Business Agenda April 2021 \n
URL:https://ibn.idaho.gov/event/board-meeting-5/
END:VEVENT
END:VCALENDAR